BEGIN:VCALENDAR
VERSION:2.0
PRODID:-//öGIG //NONSGML Events //EN
CALSCALE:GREGORIAN
X-WR-CALNAME:öGIG
BEGIN:VEVENT
CREATED:20240729T131120Z
UID:25324
DTEND;VALUE=DATE:20240926T190000
DTSTART;VALUE=DATE:20240926T160000
DTSTAMP:20260423T144627Z
LOCATION:Heurigen Reblaus\, Hauptstraße 8\, 2333 Leopoldsdorf 
DESCRIPTION:
SUMMARY:öFIBER Glasfasersprechtag
ORGANIZER:öGIG
URL;VALUE=URI:https://oegig.at/events/oefiber-glasfasersprechtag-18/
TRANSP:OPAQUE
END:VEVENT
END:VCALENDAR
