BEGIN:VCALENDAR
VERSION:2.0
PRODID:-//öGIG //NONSGML Events //EN
CALSCALE:GREGORIAN
X-WR-CALNAME:öGIG
BEGIN:VEVENT
CREATED:20241015T141026Z
UID:26328
DTEND;VALUE=DATE:20241126T190000
DTSTART;VALUE=DATE:20241126T153000
DTSTAMP:20260424T195233Z
LOCATION:Stadtsaal (im Foyer)\, Rathausstraße 3\, 2490 Ebenfurth
DESCRIPTION:
SUMMARY:öFIBER Glasfasersprechtag
ORGANIZER:öGIG
URL;VALUE=URI:https://oegig.at/events/oefiber-glasfasersprechtag-28/
TRANSP:OPAQUE
END:VEVENT
END:VCALENDAR
