BEGIN:VCALENDAR
VERSION:2.0
PRODID:-//öGIG //NONSGML Events //EN
CALSCALE:GREGORIAN
X-WR-CALNAME:öGIG
BEGIN:VEVENT
CREATED:20250312T135236Z
UID:30146
DTEND;VALUE=DATE:20250422T190000
DTSTART;VALUE=DATE:20250422T153000
DTSTAMP:20260419T151450Z
LOCATION:Im Feuerwehrhaus Gobelsburg\, Schloss Str. 20\, 3550  Langenlois/Gobelsburg
DESCRIPTION:
SUMMARY:öFIBER Glasfaser-Sprechtag
ORGANIZER:öGIG
URL;VALUE=URI:https://oegig.at/events/oefiber-glasfaser-sprechtag-3/
TRANSP:OPAQUE
END:VEVENT
END:VCALENDAR
