BEGIN:VCALENDAR
VERSION:2.0
PRODID:-//öGIG //NONSGML Events //EN
CALSCALE:GREGORIAN
X-WR-CALNAME:öGIG
BEGIN:VEVENT
CREATED:20250912T112927Z
UID:34321
DTEND;VALUE=DATE:20251008T180000
DTSTART;VALUE=DATE:20251008T143000
DTSTAMP:20260421T085600Z
LOCATION:Gemeindeamt Wimpassing an der Leitha\, Hauptstraße 8/1.Stock\, 2485 Wimpassing an der Leitha
DESCRIPTION:
SUMMARY:öFIBER Sprechtag
ORGANIZER:öGIG
URL;VALUE=URI:https://oegig.at/events/oefiber-sprechtag-08-10/
TRANSP:OPAQUE
END:VEVENT
END:VCALENDAR
